BEGIN:VCALENDAR
VERSION:2.0
PRODID:icalendar-ruby
CALSCALE:GREGORIAN
METHOD:PUBLISH
BEGIN:VEVENT
DTSTAMP:20260424T103229Z
UID:16-241119@frontierchurchcape.com
DTSTART:20260807T150000Z
DTEND:20260807T163000Z
CLASS:PUBLIC
CREATED:20260310T085254
DESCRIPTION:
LAST-MODIFIED:20260310T085254
LOCATION:@ Frontier Church 
SUMMARY:Women's Bible Study
URL;VALUE=URI:https://frontierchurchcape.com/events/womens-bible-study/2026
 -08-07
END:VEVENT
END:VCALENDAR
