BEGIN:VCALENDAR
VERSION:2.0
PRODID:icalendar-ruby
CALSCALE:GREGORIAN
METHOD:PUBLISH
BEGIN:VEVENT
DTSTAMP:20260422T221811Z
UID:17-241193@frontierchurchcape.com
DTSTART:20260904T150000Z
DTEND:20260904T163000Z
CLASS:PUBLIC
CREATED:20260310T085633
DESCRIPTION:
LAST-MODIFIED:20260310T085633
LOCATION:@ Frontier Church 
SUMMARY:Men's Bible Study 
URL;VALUE=URI:https://frontierchurchcape.com/events/mens-bible-study/2026-0
 9-04
END:VEVENT
END:VCALENDAR
